BEGIN:VCALENDAR
VERSION:2.0
PRODID:www.stappen-shoppen.nl
BEGIN:VEVENT
UID:stappen-shoppen.nl/entity/69ea1579e5437224b90142d5
DTSTAMP:20260426T023215Z
ORGANIZER;CN=:MAILTO:
DTSTART:20260604T150000Z
DTEND:20260604T180000Z
URL:https://m-en.hellozuidas.com/ical/69ea1579e5437224b90142d5
SUMMARY:‘Beachweek’ op de beachvolleybalvelden op de VU campus
DESCRIPTION:Het Sportcentrum VU organiseert 4 juni de ‘Beachweek’ op de beachvolleybalvelden op de VU campus\, aan de Boelelaan.
END:VEVENT
END:VCALENDAR

